BEGIN:VCALENDAR
VERSION:2.0
PRODID:-//Hitting Cancer Below the Belt - ECPv6.15.20//NONSGML v1.0//EN
CALSCALE:GREGORIAN
METHOD:PUBLISH
X-WR-CALNAME:Hitting Cancer Below the Belt
X-ORIGINAL-URL:https://hcb2.org
X-WR-CALDESC:Events for Hitting Cancer Below the Belt
REFRESH-INTERVAL;VALUE=DURATION:PT1H
X-Robots-Tag:noindex
X-PUBLISHED-TTL:PT1H
BEGIN:VTIMEZONE
TZID:America/New_York
BEGIN:DAYLIGHT
TZOFFSETFROM:-0500
TZOFFSETTO:-0400
TZNAME:EDT
DTSTART:20250309T070000
END:DAYLIGHT
BEGIN:STANDARD
TZOFFSETFROM:-0400
TZOFFSETTO:-0500
TZNAME:EST
DTSTART:20251102T060000
END:STANDARD
BEGIN:DAYLIGHT
TZOFFSETFROM:-0500
TZOFFSETTO:-0400
TZNAME:EDT
DTSTART:20260308T070000
END:DAYLIGHT
BEGIN:STANDARD
TZOFFSETFROM:-0400
TZOFFSETTO:-0500
TZNAME:EST
DTSTART:20261101T060000
END:STANDARD
BEGIN:DAYLIGHT
TZOFFSETFROM:-0500
TZOFFSETTO:-0400
TZNAME:EDT
DTSTART:20270314T070000
END:DAYLIGHT
BEGIN:STANDARD
TZOFFSETFROM:-0400
TZOFFSETTO:-0500
TZNAME:EST
DTSTART:20271107T060000
END:STANDARD
END:VTIMEZONE
BEGIN:VEVENT
DTSTART;TZID=America/New_York:20260921T110000
DTEND;TZID=America/New_York:20260921T180000
DTSTAMP:20260421T194603
CREATED:20250513T120028Z
LAST-MODIFIED:20260420T193717Z
UID:2469-1789988400-1790013600@hcb2.org
SUMMARY:Teeing Off On Cancer
DESCRIPTION:Teeing Off on Cancer page Join the HCB2 crew on the links and support efforts to prevent and defeat colorectal cancer – the second deadliest cancer in men and women. \nColorectal cancer is now the #1 cause of cancer-related death in people under age 50. Young community members are at risk. Every event offers the opportunity to bring education to the participants and the community\, which can save lives. This golf activity includes a long drive contest\, a closest to the pin contest along with a putting contest\, and a bountiful prize package for anyone fortunate enough to make a hole-in-one. We will also offer a number of other optional fun activities for those that like to take a risk. A box lunch will be served prior to the event and there will be a sit down dinner following the event as we present awards. \nEmail us (link: info@hcb2.org) for more information. \nRegistration to TEE OFF ON CANCER can be found here.\nMonday\, September 21st\nRegistration/Lunch: 11:00am\nTee Off: 12:00pm with Dinner & Awards
URL:https://hcb2.org/event/teeing-off-on-cancer/
LOCATION:Magnolia Green Golf Club\, 7001 Awesome Dr\, Moseley\, VA 23120
CATEGORIES:Fundraiser
ATTACH;FMTTYPE=image/jpeg:https://hcb2.org/wp-content/uploads/2023/01/TOC.winner.2022.jpeg
END:VEVENT
END:VCALENDAR